BEGIN:VCALENDAR
VERSION:2.0
PRODID:-//wp-events-plugin.com//7.2.3.1//EN
BEGIN:VEVENT
UID:715@stdombenicia.org
DTSTART:20250914T170000Z
DTEND:20250914T220000Z
DTSTAMP:20250829T181525Z
URL:https://stdombenicia.org/events/2025-festival-anchored-in-hope/
SUMMARY:2025 Festival - Anchored in Hope
DESCRIPTION:
ATTACH;FMTTYPE=image/jpeg:https://stdombenicia.org/wp-content/uploads/2025
 /08/FINAL-2025-Festival-3.75-x-5in-1.png
CATEGORIES:Parish Events
END:VEVENT
END:VCALENDAR