BEGIN:VCALENDAR
VERSION:2.0
PRODID:-//wp-events-plugin.com//7.2.3.1//EN
BEGIN:VEVENT
UID:882@stdombenicia.org
DTSTART:20260426T180000Z
DTEND:20260426T213000Z
DTSTAMP:20260410T194936Z
URL:https://stdombenicia.org/events/baking-sunday-9/
SUMMARY:Baking Sunday
DESCRIPTION:April is Springtime Baking!
ATTACH;FMTTYPE=image/jpeg:https://stdombenicia.org/wp-content/uploads/2026
 /04/BS-April-2.png
CATEGORIES:Fellowship,Parish Events,Series
END:VEVENT
END:VCALENDAR