BEGIN:VCALENDAR
VERSION:2.0
PRODID:-//wp-events-plugin.com//7.2.3.1//EN
BEGIN:VEVENT
UID:639@stdombenicia.org
DTSTART:20250119T180000Z
DTEND:20250119T210000Z
DTSTAMP:20250109T224438Z
URL:https://stdombenicia.org/events/baking-sunday-bake-a-cake/
SUMMARY:Baking Sunday - Bake a Cake!
DESCRIPTION:
ATTACH;FMTTYPE=image/jpeg:https://stdombenicia.org/wp-content/uploads/2025
 /01/Jan-baking-Sunday-2.png
CATEGORIES:Fellowship,Parish Events
END:VEVENT
END:VCALENDAR