BEGIN:VCALENDAR
VERSION:2.0
PRODID:-//wp-events-plugin.com//7.2.3.1//EN
BEGIN:VEVENT
UID:779@stdombenicia.org
DTSTART:20260704T020000Z
DTEND:20260704T030000Z
DTSTAMP:20251121T233913Z
URL:https://stdombenicia.org/events/family-adoration-2026-07-03/
SUMMARY:Family Adoration
DESCRIPTION:Fridays\n\nBring your children of all ages!\n\n6:00 p.m. Church
 \n\nFollowed by potluck in the Ministry Center
ATTACH;FMTTYPE=image/jpeg:https://stdombenicia.org/wp-content/uploads/2025
 /08/Family-Adoration-sq-4-1.png
CATEGORIES:Parish Events,Series
END:VEVENT
END:VCALENDAR