BEGIN:VCALENDAR
VERSION:2.0
PRODID:-//wp-events-plugin.com//7.2.3.1//EN
BEGIN:VEVENT
UID:840@stdombenicia.org
DTSTART:20260207T014500Z
DTEND:20260606T030000Z
DTSTAMP:20260206T170948Z
URL:https://stdombenicia.org/events/mens-bible-study-2/
SUMMARY:Men's Bible Study
DESCRIPTION:
ATTACH;FMTTYPE=image/jpeg:https://stdombenicia.org/wp-content/uploads/2026
 /02/Mens-Bible-2025-545-1.png
CATEGORIES:Fellowship,Parish Events
END:VEVENT
END:VCALENDAR