BEGIN:VCALENDAR
VERSION:2.0
PRODID:-//wp-events-plugin.com//7.2.3.1//EN
BEGIN:VEVENT
UID:877@stdombenicia.org
DTSTART:20260519T023000Z
DTEND:20260519T040000Z
DTSTAMP:20260402T221503Z
URL:https://stdombenicia.org/events/womens-bible-study-29/
SUMMARY:Women's Bible Study
DESCRIPTION:Women’s Bible Study will be a 6-week study on Women of the Ne
 w Testament from Little Rock Scripture Studies.
ATTACH;FMTTYPE=image/jpeg:https://stdombenicia.org/wp-content/uploads/2026
 /04/Womens-Bible-Study-3.png
CATEGORIES:Fellowship,Parish Events,Prayer,Series,Worship
END:VEVENT
END:VCALENDAR